BEGIN:VCALENDAR
VERSION:2.0
PRODID:-//ExpressionEngine Easy iCalendar plugin//NONSGML v2.0.0//EN
X-WR-TIMEZONE:America/Chicago
X-WR-CALNAME:Upcoming Auctions
BEGIN:VEVENT
UID:160611
DTSTAMP:20260416T120000
DTSTART:20260416T120000
DTEND:20260516T100000
SUMMARY:Two Auctions in ONE DAY
LOCATION:6 E. Bel Air Blvd.\, Clarksville\, TN 37042\, US
DESCRIPTION:6 E. Bel Air Blvd.\, Clarksville\, TN 37042 and 308 Second St
 .\, Guthrie\, KY 42234 Saturday May 16th at 10AM and 1:00PM L
 ive on-site auction with online simulcast bidding available
URL:https://www.atlasreaa.com/auctions/detail/bw160611
SEQUENCE:1
END:VEVENT
END:VCALENDAR