BEGIN:VCALENDAR
VERSION:2.0
PRODID:-//ExpressionEngine Easy iCalendar plugin//NONSGML v2.0.1//EN
X-WR-TIMEZONE:America/Chicago
X-WR-CALNAME:Upcoming Auctions
BEGIN:VEVENT
UID:125570
DTSTAMP:20240913T120000
DTSTART:20240913T120000
DTEND:20240913T130000
SUMMARY:110 & 126 Franklin St. Clarksville\, TN AUCTION
LOCATION:126 Franklin St.\, Clarksville\, TN 37040\, US
DESCRIPTION:Commercial Real Estate AUCTION 2 Downtown Clarksville Buildi
 ngs at Public AUCTION
URL:https://www.atlasreaa.com/auctions/detail/bw125570
SEQUENCE:1
END:VEVENT
END:VCALENDAR